BEGIN:VCALENDAR
VERSION:2.0
PRODID:-//ChamberMaster//Event Calendar 2.0//EN
METHOD:PUBLISH
X-PUBLISHED-TTL:P3D
REFRESH-INTERVAL:P3D
CALSCALE:GREGORIAN
BEGIN:VEVENT
DTSTART:20111001T130000Z
DTEND:20111001T190000Z
X-MICROSOFT-CDO-ALLDAYEVENT:FALSE
SUMMARY:2011 Harlingen "Wes Lepard" Heart Walk
DESCRIPTION:The American Heart Association's 2011 Wes Lepard Heart Walk will be held at the Marine Military Academy on Saturday\, Oct. 1. Individuals\, organizations and businesses are invited to enter the non-competitive\, 5k walk/run\, and participate by increasing public awareness about heart disease! Whether you will walk for yourself\, a survivor\, or in someone's memory\, this event will bring the community together to support the cause. \n\nWalkers are urged to raise donations for the American Heart Association that support public education programs and fund life-saving research. AHA hopes to reach total donations of $90\,000 this year in Harlingen. The event is named after Wes Lepard\, a former board member of the Valley Baptist Health System\, who died of a heart attack. Lepard was a man of integrity\, strength\, and generosity who lived a life of service and achievement. He was admired for his volunteer leadership and his efforts to improve health services for the people of South Texas.\n\nTo register online for the walk\, go to www.harlingenheartwalk.org.\nThere are no registration fees!\nFor details or any questions\, call or email the Harlingen Heart Walk team (Caitlin Martone & Amy Knudsen) at 888.433.7220 x2432 or HarlingenHeartWalk@heart.org.
X-ALT-DESC;FMTTYPE=text/html:The American Heart Association's 2011 Wes Lepard Heart Walk will be held at the Marine Military Academy on Saturday\, Oct. 1. Individuals\, organizations and businesses are invited to enter the non-competitive\, 5k walk/run\, and participate by increasing public awareness about heart disease! Whether you will walk for yourself\, a survivor\, or in someone's memory\, this event will bring the community together to support the cause. \n\nWalkers are urged to raise donations for the American Heart Association that support public education programs and fund life-saving research. AHA hopes to reach total donations of $90\,000 this year in Harlingen. The event is named after Wes Lepard\, a former board member of the Valley Baptist Health System\, who died of a heart attack. Lepard was a man of integrity\, strength\, and generosity who lived a life of service and achievement. He was admired for his volunteer leadership and his efforts to improve health services for the people of South Texas.\n\nTo register online for the walk\, go to www.harlingenheartwalk.org.\nThere are no registration fees!\nFor details or any questions\, call or email the Harlingen Heart Walk team (Caitlin Martone & Amy Knudsen) at 888.433.7220 x2432 or HarlingenHeartWalk@heart.org.\n
LOCATION:Marine Military Academy
UID:e.1828.3262
SEQUENCE:3
DTSTAMP:20260421T034155Z
URL:https://business.harlingen.com/events/details/2011-harlingen-wes-lepard-heart-walk-10-01-2011-3262
END:VEVENT

END:VCALENDAR
