BEGIN:VCALENDAR
VERSION:2.0
PRODID:-//ChamberMaster//Event Calendar 2.0//EN
METHOD:PUBLISH
X-PUBLISHED-TTL:P3D
REFRESH-INTERVAL:P3D
CALSCALE:GREGORIAN
BEGIN:VEVENT
DTSTART;VALUE=DATE:20110319
DTEND;VALUE=DATE:20110320
TRANSP:TRANSPARENT
X-MICROSOFT-CDO-ALLDAYEVENT:TRUE
SUMMARY:2011 RGV Border Senior Games Tournament
DESCRIPTION:Presented by the Harlingen Table Tennis Club\nSingles\, Doubles & Mixed Doubles\nNeed more information Contact: Bob Salmeron (956) 428-2002\nWebsite: www.hgnttc.org
X-ALT-DESC;FMTTYPE=text/html:Presented by the Harlingen Table Tennis Club\nSingles\, Doubles & Mixed Doubles\nNeed more information Contact: Bob Salmeron (956) 428-2002\nWebsite: www.hgnttc.org \n
LOCATION:
UID:e.1828.2989
SEQUENCE:3
DTSTAMP:20260421T124907Z
URL:https://business.harlingen.com/events/details/2011-rgv-border-senior-games-tournament-03-19-2011-2989
END:VEVENT

END:VCALENDAR
