BEGIN:VCALENDAR
VERSION:2.0
PRODID:-//ChamberMaster//Event Calendar 2.0//EN
METHOD:PUBLISH
X-PUBLISHED-TTL:P3D
REFRESH-INTERVAL:P3D
CALSCALE:GREGORIAN
BEGIN:VEVENT
DTSTART:20111111T153000Z
DTEND:20111111T153000Z
X-MICROSOFT-CDO-ALLDAYEVENT:FALSE
SUMMARY:"2011 Salute to our Nation's Heroes"
DESCRIPTION:A Veterans Day Celebration presented by Department of Veterans Affairs\, VA Texas Valley Coastal Bend Health Care System\, The UT Health Science Center San Antonio - Regional Academic Health Center\, and the City of Harlingen. For more information\, contact 956-430-9303 or 956-365-8600.
X-ALT-DESC;FMTTYPE=text/html:A Veterans Day Celebration presented by Department of Veterans Affairs\, VA Texas Valley Coastal Bend Health Care System\, The UT Health Science Center San Antonio - Regional Academic Health Center\, and the City of Harlingen. For more information\, contact 956-430-9303 or 956-365-8600. \n \n
LOCATION:
UID:e.1828.3231
SEQUENCE:3
DTSTAMP:20260421T005046Z
URL:https://business.harlingen.com/events/details/2011-salute-to-our-nation-s-heroes-11-11-2011-3231
END:VEVENT

END:VCALENDAR
