BEGIN:VCALENDAR
VERSION:2.0
PRODID:-//ChamberMaster//Event Calendar 2.0//EN
METHOD:PUBLISH
X-PUBLISHED-TTL:P3D
REFRESH-INTERVAL:P3D
CALSCALE:GREGORIAN
BEGIN:VEVENT
DTSTART:20110402T130000Z
DTEND:20110402T163000Z
X-MICROSOFT-CDO-ALLDAYEVENT:FALSE
SUMMARY:2011 SPRING TRASH BASH
DESCRIPTION:Mark Your Calendars for the\n2011 SPRING TRASH BASH presented by  \nKeep Harlingen Beautiful and the City of Harlingen\nApril 2\, 2011\n8:00 am - 11:30 am\n11:45am Lunch at the City Hall Parking Lot\n We are in need of Volunteers to help pick up trash citywide.  \nWhen a group signs up\, they will be able to choose a \ndesignated area to clean up\nFirst Come\, First Serve basis only\nPlease bring gloves and a lot of enthusiasm.\nWe will be providing lunch & refreshments and \na free T-shirt for your efforts!  \nFOR MORE INFORMATION OR\nTO SIGN UP YOUR BUSINESS\, ORGANIZATION OR GROUP\nPlease call (956) 216-5302 or email -  keephgnbeautiful@aol.com \nby March 30\, 2011\nThank you for your support and community spirit!!!
X-ALT-DESC;FMTTYPE=text/html:Mark Your Calendars for the\n2011 SPRING TRASH BASH presented by  \nKeep Harlingen Beautiful and the City of Harlingen\nApril 2\, 2011\n8:00 am - 11:30 am\n11:45am Lunch at the City Hall Parking Lot\n We are in need of Volunteers to help pick up trash citywide.  \nWhen a group signs up\, they will be able to choose a \ndesignated area to clean up\nFirst Come\, First Serve basis only\nPlease bring gloves and a lot of enthusiasm.\nWe will be providing lunch & refreshments and \na free T-shirt for your efforts!  \nFOR MORE INFORMATION OR\nTO SIGN UP YOUR BUSINESS\, ORGANIZATION OR GROUP\nPlease call (956) 216-5302 or email -  keephgnbeautiful@aol.com \nby March 30\, 2011\nThank you for your support and community spirit!!!\n
LOCATION:
UID:e.1828.2992
SEQUENCE:3
DTSTAMP:20260421T110553Z
URL:https://business.harlingen.com/events/details/2011-spring-trash-bash-04-02-2011-2992
END:VEVENT

END:VCALENDAR
