BEGIN:VCALENDAR
VERSION:2.0
PRODID:-//ChamberMaster//Event Calendar 2.0//EN
METHOD:PUBLISH
X-PUBLISHED-TTL:P3D
REFRESH-INTERVAL:P3D
CALSCALE:GREGORIAN
BEGIN:VEVENT
DTSTART:20111020T230000Z
DTEND:20111021T020000Z
X-MICROSOFT-CDO-ALLDAYEVENT:FALSE
SUMMARY:2011 Taste of Harlingen
DESCRIPTION:The RGV Museum Association (Friends of the Harlingen Arts & Heritage Museum) is pleased to announce the 2011 Taste of Harlingen.  Our theme this year is "Propellers & Pin-Ups". \nOur annual fundraising event encourages our local restaurants to showcase their culinary expertise for our guest to enjoy. Proceeds from this event will go toward preserving and protecting Harlingen's past\, present and future\, along with promoting Exhibits\, Programming and Education throughout the year. Tickets availabe at the Harlingen Chamber of Commerce $55.00 pre sale/ $65.00 at the door.
X-ALT-DESC;FMTTYPE=text/html:The RGV Museum Association (Friends of the Harlingen Arts & Heritage Museum) is pleased to announce the 2011 Taste of Harlingen.  Our theme this year is "Propellers & Pin-Ups". \nOur annual fundraising event encourages our local restaurants to showcase their culinary expertise for our guest to enjoy. Proceeds from this event will go toward preserving and protecting Harlingen's past\, present and future\, along with promoting Exhibits\, Programming and Education throughout the year. Tickets availabe at the Harlingen Chamber of Commerce $55.00 pre sale/ $65.00 at the door.\n
LOCATION:
UID:e.1828.3161
SEQUENCE:3
DTSTAMP:20260421T021246Z
URL:https://business.harlingen.com/events/details/2011-taste-of-harlingen-10-20-2011-3161
END:VEVENT

END:VCALENDAR
