BEGIN:VCALENDAR
VERSION:2.0
PRODID:-//ChamberMaster//Event Calendar 2.0//EN
METHOD:PUBLISH
X-PUBLISHED-TTL:P3D
REFRESH-INTERVAL:P3D
CALSCALE:GREGORIAN
BEGIN:VEVENT
DTSTART;VALUE=DATE:20110616
DTEND;VALUE=DATE:20110618
TRANSP:TRANSPARENT
X-MICROSOFT-CDO-ALLDAYEVENT:TRUE
SUMMARY:2011 Texas Rural Challenge Conference
DESCRIPTION:The University of Texas Institute for Economic Development's Rural Business Program will host the 2nd annual Texas Rural Challenge conference in San Marcos.The goal of this event is to spur small business & economic growth in rural communities across Texas by providing leaders with practical & proven approaches to rural development.\nThis is a state-wide conference hosted by the Governor's Office\, Texas Economic Development Council\, Texas Department of Agriculture\, USDA-Rural Development\, Texas Association of Rural Councils and the UTSA Institute for Economic Development-Rural Business Program.\nRSVP TODAY!\nPlease visit the following link for registration information: \nhttps://www.texasedc.org/node/595
X-ALT-DESC;FMTTYPE=text/html:The University of Texas Institute for Economic Development's Rural Business Program will host the 2nd annual Texas Rural Challenge conference in San Marcos.The goal of this event is to spur small business & economic growth in rural communities across Texas by providing leaders with practical & proven approaches to rural development.\nThis is a state-wide conference hosted by the Governor's Office\, Texas Economic Development Council\, Texas Department of Agriculture\, USDA-Rural Development\, Texas Association of Rural Councils and the UTSA Institute for Economic Development-Rural Business Program.\nRSVP TODAY!\nPlease visit the following link for registration information: \nhttps://www.texasedc.org/node/595\n
LOCATION:
UID:e.1828.3069
SEQUENCE:3
DTSTAMP:20260421T080949Z
URL:https://business.harlingen.com/events/details/2011-texas-rural-challenge-conference-06-16-2011-3069
END:VEVENT

END:VCALENDAR
