BEGIN:VCALENDAR
VERSION:2.0
PRODID:-//ChamberMaster//Event Calendar 2.0//EN
METHOD:PUBLISH
X-PUBLISHED-TTL:P3D
REFRESH-INTERVAL:P3D
CALSCALE:GREGORIAN
BEGIN:VEVENT
DTSTART:20120517T233000Z
DTEND:20120518T010000Z
X-MICROSOFT-CDO-ALLDAYEVENT:FALSE
SUMMARY:2012 Boy Scouts of America Gala Celebration
DESCRIPTION:BOY SCOUTS OF AMERICA RIO GRANDE COUNCIL\n\nFOR IMMEDIATE RELEASE\nCONTACT: Ernesto Carballo\, Scout Executive/CEO\nOffice: 956-423-0250 Fax: 956-421-4950\n\nBoy Scouts Honor Dr. Michael Mohun  \n(Harlingen TX\, April 24\, 2012) – The Rio Grande Council\, Boy Scouts of America will hold the ''2012 District Gala'' Dinner\, on Thursday\, May 17\, 2012\, at the Harlingen Cultural Arts Center at 6:30PM.  Dr. Michael Mohun\, Chief of Emergency Medicine at Valley Baptist Medical Center\, will be honored as a recipient of the ''Centennial Leadership Award\,'' which will be presented at this benefit dinner.\n\nThe ''Centennial Leadership Award'' has been designated by the Rio Grande Council of the Boy Scouts of America as an award to recognize a civic\, community\, or business leader who demonstrates patriotism\, leadership\, and service at a local\, state\, or national level.  The candidate must also provide service and support to the character development of youth within Cameron County.  Past honorees include Senator Eddie Lucio\, Neal O. Simmons\, Eddie Campirano\, Monsignor Gustavo Barrera\, Todd Mann\, and Mayor Chris Boswell. \n\nThe Honoree has been a long supporter of numerous youth programs and education in Cameron Country.  \n\nFunds raised for this dinner will support the Boy Scouts of America in the Rio Grande Valley. For more information on becoming a sponsor of this event\, please contact Ernesto Castro at 956-423-0250 at ernesto.castro@scouting.org.\n\n                    \n###
X-ALT-DESC;FMTTYPE=text/html:BOY SCOUTS OF AMERICA RIO GRANDE COUNCIL\n\nFOR IMMEDIATE RELEASE\nCONTACT: Ernesto Carballo\, Scout Executive/CEO\nOffice: 956-423-0250 Fax: 956-421-4950\n\nBoy Scouts Honor Dr. Michael Mohun  \n(Harlingen TX\, April 24\, 2012) – The Rio Grande Council\, Boy Scouts of America will hold the ''2012 District Gala'' Dinner\, on Thursday\, May 17\, 2012\, at the Harlingen Cultural Arts Center at 6:30PM.  Dr. Michael Mohun\, Chief of Emergency Medicine at Valley Baptist Medical Center\, will be honored as a recipient of the ''Centennial Leadership Award\,'' which will be presented at this benefit dinner.\n\nThe ''Centennial Leadership Award'' has been designated by the Rio Grande Council of the Boy Scouts of America as an award to recognize a civic\, community\, or business leader who demonstrates patriotism\, leadership\, and service at a local\, state\, or national level.  The candidate must also provide service and support to the character development of youth within Cameron County.  Past honorees include Senator Eddie Lucio\, Neal O. Simmons\, Eddie Campirano\, Monsignor Gustavo Barrera\, Todd Mann\, and Mayor Chris Boswell. \n\nThe Honoree has been a long supporter of numerous youth programs and education in Cameron Country.  \n\nFunds raised for this dinner will support the Boy Scouts of America in the Rio Grande Valley. For more information on becoming a sponsor of this event\, please contact Ernesto Castro at 956-423-0250 at ernesto.castro@scouting.org.\n\n                    \n###\n
LOCATION:
UID:e.1828.3648
SEQUENCE:3
DTSTAMP:20260420T150805Z
URL:https://business.harlingen.com/events/details/2012-boy-scouts-of-america-gala-celebration-05-17-2012-3648
END:VEVENT

END:VCALENDAR
