BEGIN:VCALENDAR
VERSION:2.0
PRODID:-//ChamberMaster//Event Calendar 2.0//EN
METHOD:PUBLISH
X-PUBLISHED-TTL:P3D
REFRESH-INTERVAL:P3D
CALSCALE:GREGORIAN
BEGIN:VEVENT
DTSTART:20120407T130000Z
DTEND:20120408T010000Z
X-MICROSOFT-CDO-ALLDAYEVENT:FALSE
SUMMARY:2012 Copa de Valley-Brazilian Jiu-Jitsu (BJJ) Martial Arts Tournament
DESCRIPTION:For information call City of Harlingen\, Parks & Recreation Dept. Esmeralda Martinez 956-216-5950 or e-mail emartinez@myharlingen.us
X-ALT-DESC;FMTTYPE=text/html:For information call City of Harlingen\, Parks & Recreation Dept. Esmeralda Martinez 956-216-5950 or e-mail emartinez@myharlingen.us
LOCATION:
UID:e.1828.3581
SEQUENCE:3
DTSTAMP:20260420T182402Z
URL:https://business.harlingen.com/events/details/2012-copa-de-valley-brazilian-jiu-jitsu-bjj-martial-arts-tournament-04-07-2012-3581
END:VEVENT

END:VCALENDAR
