BEGIN:VCALENDAR
VERSION:2.0
PRODID:-//ChamberMaster//Event Calendar 2.0//EN
METHOD:PUBLISH
X-PUBLISHED-TTL:P3D
REFRESH-INTERVAL:P3D
CALSCALE:GREGORIAN
BEGIN:VEVENT
DTSTART;VALUE=DATE:20121010
DTEND;VALUE=DATE:20121013
TRANSP:TRANSPARENT
X-MICROSOFT-CDO-ALLDAYEVENT:TRUE
SUMMARY:2012 South Padre Island Business Forum & Golf Tournament "Surfing for Success"l
DESCRIPTION:2012 SouthWest Minority Supplier Development Council Registration Now Open\n\nWednesday\, October 10 -  Friday\, October 12\, 2012\n\nEXPO & Hotel: Pearl South Padre\n                       310 Padre Blvd.\, South Padre Island\n\nGolf Tournament: South Padre Island Golf Club\n                            1 Golf House Rd.\, Laguna Vista\, Tx. \n\nCombo Package- 3 Day event\n                           MBEs/Members $125.00\n                           Non-MBEs/ Non-Members $150.00\n\nDay 1 & 2 Expo/ Seminar Only:\n                MBEs/Members $80.00\n                Non-MBEs/Non-Members $100.00\n\nDay 3 Golf Only:\n          MBEs/Members $85.00\n          Non-MBEs/ Non-Members $105.00 \n\n*Hotel room block available at the Pearl South Padre Hotel for $86.00 per night. Make your reservations today by calling @ 956-761-6551\, Code: Southwest Minority Supplier Development Council. Hotel room block expires September 10\, 2012. \n\nFor more information about this event\, please contact\, Maggie Trevino\, 956-425-7048 or maggie@smsdc.org
X-ALT-DESC;FMTTYPE=text/html:2012 SouthWest Minority Supplier Development Council Registration Now Open\n\nWednesday\, October 10 -  Friday\, October 12\, 2012\n\nEXPO & Hotel: Pearl South Padre\n                       310 Padre Blvd.\, South Padre Island\n\nGolf Tournament: South Padre Island Golf Club\n                            1 Golf House Rd.\, Laguna Vista\, Tx. \n\nCombo Package- 3 Day event\n                           MBEs/Members $125.00\n                           Non-MBEs/ Non-Members $150.00\n\nDay 1 & 2 Expo/ Seminar Only:\n                MBEs/Members $80.00\n                Non-MBEs/Non-Members $100.00\n\nDay 3 Golf Only:\n          MBEs/Members $85.00\n          Non-MBEs/ Non-Members $105.00 \n\n*Hotel room block available at the Pearl South Padre Hotel for $86.00 per night. Make your reservations today by calling @ 956-761-6551\, Code: Southwest Minority Supplier Development Council. Hotel room block expires September 10\, 2012. \n\nFor more information about this event\, please contact\, Maggie Trevino\, 956-425-7048 or maggie@smsdc.org
LOCATION:
UID:e.1828.3958
SEQUENCE:3
DTSTAMP:20260420T103050Z
URL:https://business.harlingen.com/events/details/2012-south-padre-island-business-forum-golf-tournament-surfing-for-success-l-10-10-2012-3958
END:VEVENT

END:VCALENDAR
