BEGIN:VCALENDAR
VERSION:2.0
PRODID:-//ChamberMaster//Event Calendar 2.0//EN
METHOD:PUBLISH
X-PUBLISHED-TTL:P3D
REFRESH-INTERVAL:P3D
CALSCALE:GREGORIAN
BEGIN:VEVENT
DTSTART:20120331T130000Z
DTEND:20120331T163000Z
X-MICROSOFT-CDO-ALLDAYEVENT:FALSE
SUMMARY:2012 Spring Trash Bash
DESCRIPTION:SAVE the DATE! 2012 SPRING TRASH BASH! Presented by Keep Harlingen Beautiful and the City of Harlingen. We are in need of Volunteers to help pickup trash city- wide. When a group signs up\, they will be able to choose a designated area to clean up. First Come\, First Serve basis only. Please bring gloves and a lot of enthusiasm. We will be providing lunch & refreshments and a free T-Shirt for your efforts! Lunch at 11:45am at the City Hall Parking Lot (in case of inclement weather-lunch will be moved to the Oil Mill Pavilion. For more information or to sign up your business\, organization or group\, please call 956-216-5302 or email keephgnbeautiful@aol.com by March 29\, 2012. Thank You for your support and community spirit!!!
X-ALT-DESC;FMTTYPE=text/html:SAVE the DATE! 2012 SPRING TRASH BASH! Presented by Keep Harlingen Beautiful and the City of Harlingen. We are in need of Volunteers to help pickup trash city- wide. When a group signs up\, they will be able to choose a designated area to clean up. First Come\, First Serve basis only. Please bring gloves and a lot of enthusiasm. We will be providing lunch & refreshments and a free T-Shirt for your efforts! Lunch at 11:45am at the City Hall Parking Lot (in case of inclement weather-lunch will be moved to the Oil Mill Pavilion. For more information or to sign up your business\, organization or group\, please call 956-216-5302 or email keephgnbeautiful@aol.com by March 29\, 2012. Thank You for your support and community spirit!!!
LOCATION:
UID:e.1828.3402
SEQUENCE:3
DTSTAMP:20260420T181437Z
URL:https://business.harlingen.com/events/details/2012-spring-trash-bash-03-31-2012-3402
END:VEVENT

END:VCALENDAR
