BEGIN:VCALENDAR
VERSION:2.0
PRODID:-//ChamberMaster//Event Calendar 2.0//EN
METHOD:PUBLISH
X-PUBLISHED-TTL:P3D
REFRESH-INTERVAL:P3D
CALSCALE:GREGORIAN
BEGIN:VEVENT
DTSTART:20120419T223000Z
DTEND:20120419T223000Z
X-MICROSOFT-CDO-ALLDAYEVENT:FALSE
SUMMARY:2012 Wine Tasting Dinner
DESCRIPTION:Featuring Scott Harvey Wines. $50/person - To purchase tickets\, please call 956.423.5565 ext. 218. \nBenefiting Garden of Hope at Ninos Head Start Harlingen.
X-ALT-DESC;FMTTYPE=text/html:Featuring Scott Harvey Wines. $50/person - To purchase tickets\, please call 956.423.5565 ext. 218. \nBenefiting Garden of Hope at Ninos Head Start Harlingen.\n
LOCATION:
UID:e.1828.3613
SEQUENCE:3
DTSTAMP:20260420T162503Z
URL:https://business.harlingen.com/events/details/2012-wine-tasting-dinner-04-19-2012-3613
END:VEVENT

END:VCALENDAR
