BEGIN:VCALENDAR
VERSION:2.0
PRODID:-//ChamberMaster//Event Calendar 2.0//EN
METHOD:PUBLISH
X-PUBLISHED-TTL:P3D
REFRESH-INTERVAL:P3D
CALSCALE:GREGORIAN
BEGIN:VEVENT
DTSTART;VALUE=DATE:20100213
DTEND;VALUE=DATE:20100215
TRANSP:TRANSPARENT
X-MICROSOFT-CDO-ALLDAYEVENT:TRUE
SUMMARY:20th Annual Jalapeño Hundred Ride\, Run & Walk
DESCRIPTION:Join us for the 20th Annual Jalapeño Hundred Ride\, Run & Walk. The Jalapeño Hundred has been a fun ride benefitting Harlingen Youth Athletics\, Harlingen Boys & Girls Club and other select not-for-profit organizations for 20 years.  There will be 5 Bike Routes\, a 5K Walk & a 10K Run. The 2-day event will also feature family activities\, and lots of food and fun. Lots of Prizes including 2 tickets from Southwest Airlines.  Last year\, several hundred riders and runners from around the state\, the U.S.\, Canada and Mexico attended and we hope to have them back this year. We are looking forward to another great year and hope you can join us!  For more information\, please call 1-800-531-7346 or visit the website at www.jalapeno100.com.
X-ALT-DESC;FMTTYPE=text/html:Join us for the 20th Annual Jalapeño Hundred Ride\, Run & Walk. The Jalapeño Hundred has been a fun ride benefitting Harlingen Youth Athletics\, Harlingen Boys & Girls Club and other select not-for-profit organizations for 20 years.  There will be 5 Bike Routes\, a 5K Walk & a 10K Run. The 2-day event will also feature family activities\, and lots of food and fun. Lots of Prizes including 2 tickets from Southwest Airlines.  Last year\, several hundred riders and runners from around the state\, the U.S.\, Canada and Mexico attended and we hope to have them back this year. We are looking forward to another great year and hope you can join us!  For more information\, please call 1-800-531-7346 or visit the website at www.jalapeno100.com.\n\n
LOCATION:
UID:e.1828.2142
SEQUENCE:3
DTSTAMP:20260422T094719Z
URL:https://business.harlingen.com/events/details/20th-annual-jalape&#241;o-hundred-ride-run-walk-02-13-2010-2142
END:VEVENT

END:VCALENDAR
