BEGIN:VCALENDAR
VERSION:2.0
PRODID:-//ChamberMaster//Event Calendar 2.0//EN
METHOD:PUBLISH
X-PUBLISHED-TTL:P3D
REFRESH-INTERVAL:P3D
CALSCALE:GREGORIAN
BEGIN:VEVENT
DTSTART:20111130T003000Z
DTEND:20111130T003000Z
X-MICROSOFT-CDO-ALLDAYEVENT:FALSE
SUMMARY:20th Annual Lights for Life
DESCRIPTION:Join Valley Baptist Medical Center for a holiday tradition to kick off the holiday season. Gather together at the East Tower entrance for holiday refreshments and listen to traditional Christmas carols sung by choirs of Saint Anthony's and Harlingen High School South. Santa will make his first visit of the year to help in the tree lighting ceremony.
X-ALT-DESC;FMTTYPE=text/html:Join Valley Baptist Medical Center for a holiday tradition to kick off the holiday season. Gather together at the East Tower entrance for holiday refreshments and listen to traditional Christmas carols sung by choirs of Saint Anthony's and Harlingen High School South. Santa will make his first visit of the year to help in the tree lighting ceremony. \n\n
LOCATION:East Tower Entrance
UID:e.1828.3273
SEQUENCE:3
DTSTAMP:20260421T021122Z
URL:https://business.harlingen.com/events/details/20th-annual-lights-for-life-11-29-2011-3273
END:VEVENT

END:VCALENDAR
