BEGIN:VCALENDAR
VERSION:2.0
PRODID:-//ChamberMaster//Event Calendar 2.0//EN
METHOD:PUBLISH
X-PUBLISHED-TTL:P3D
REFRESH-INTERVAL:P3D
CALSCALE:GREGORIAN
BEGIN:VEVENT
DTSTART;VALUE=DATE:20110219
DTEND;VALUE=DATE:20110221
TRANSP:TRANSPARENT
X-MICROSOFT-CDO-ALLDAYEVENT:TRUE
SUMMARY:21th Annual Jalapeno 100
DESCRIPTION:RIDE\, RUN & WALK\n5K Walk/ 10K Run\nRide: February 19th\nRun/Walk: February 20th\n\nRide\, run\, & walk! Family activities\, food\, fun\, & prizes. For more information visit www.jalapeno100.com or call Kasey 956-423-5565 ext. 223.
X-ALT-DESC;FMTTYPE=text/html:RIDE\, RUN & WALK\n5K Walk/ 10K Run\nRide: February 19th\nRun/Walk: February 20th\n\nRide\, run\, & walk! Family activities\, food\, fun\, & prizes. For more information visit www.jalapeno100.com or call Kasey 956-423-5565 ext. 223. \n
LOCATION:
UID:e.1828.2699
SEQUENCE:3
DTSTAMP:20260421T142231Z
URL:https://business.harlingen.com/events/details/21th-annual-jalapeno-100-02-19-2011-2699
END:VEVENT

END:VCALENDAR
