BEGIN:VCALENDAR
VERSION:2.0
PRODID:-//ChamberMaster//Event Calendar 2.0//EN
METHOD:PUBLISH
X-PUBLISHED-TTL:P3D
REFRESH-INTERVAL:P3D
CALSCALE:GREGORIAN
BEGIN:VEVENT
DTSTART;VALUE=DATE:20110128
DTEND;VALUE=DATE:20110129
TRANSP:TRANSPARENT
X-MICROSOFT-CDO-ALLDAYEVENT:TRUE
SUMMARY:22nd Annual Celebrity Roast Senator Eddie Lucio
DESCRIPTION:Save The Date!  "Tonight he runs opposed" \nYou're invited 22nd Annual Celebrity Roast \n                honoring the one and only\n                    Senator Eddie Lucio. \n                      6:00 PM Cocktails\n                      7:00 PM Dinner \n                8:00 PM The Great Roast at\n     Valley Race Park\, 2601 South Ed Carey Drive\, Harlingen Texas\n\n$65. per person\, $600. (table for 10) purchase tickets at The Literacy Center of Harlingen\, 101 East Monroe\, Harlingen\, phone #956-428-8883 or Harlingen Area Chamber of Commerce\, 311 E. Tyler\, phone #956-423-5440.
X-ALT-DESC;FMTTYPE=text/html:Save The Date!  "Tonight he runs opposed" \nYou're invited 22nd Annual Celebrity Roast \n                honoring the one and only\n                    Senator Eddie Lucio. \n                      6:00 PM Cocktails\n                      7:00 PM Dinner \n                8:00 PM The Great Roast at\n     Valley Race Park\, 2601 South Ed Carey Drive\, Harlingen Texas\n\n$65. per person\, $600. (table for 10) purchase tickets at The Literacy Center of Harlingen\, 101 East Monroe\, Harlingen\, phone #956-428-8883 or Harlingen Area Chamber of Commerce\, 311 E. Tyler\, phone #956-423-5440.\n  
LOCATION:
UID:e.1828.2897
SEQUENCE:3
DTSTAMP:20260421T154754Z
URL:https://business.harlingen.com/events/details/22nd-annual-celebrity-roast-senator-eddie-lucio-01-28-2011-2897
END:VEVENT

END:VCALENDAR
