BEGIN:VCALENDAR
VERSION:2.0
PRODID:-//ChamberMaster//Event Calendar 2.0//EN
METHOD:PUBLISH
X-PUBLISHED-TTL:P3D
REFRESH-INTERVAL:P3D
CALSCALE:GREGORIAN
BEGIN:VEVENT
DTSTART;VALUE=DATE:20120218
DTEND;VALUE=DATE:20120219
TRANSP:TRANSPARENT
X-MICROSOFT-CDO-ALLDAYEVENT:TRUE
SUMMARY:22nd Annual Jalapeño Hundred Ride
DESCRIPTION:Join us for the 22nd Annual Jalapeño Hundred Ride. The Jalapeño 100  has been a fun ride and tradition in Harlingen for over two decades. Proceeds benefit the Harlingen Youth Athletics\, Harlingen Boys & Girls Club and other local non-profit organizations. Family activities\, Food\, Fun & Prizes!\n\nRegistration is available online at www.jalapeno100.com. For more information or to volunteer\, contact Ana Adame at 956.423.3168 or email antz4bworld@att.net.
X-ALT-DESC;FMTTYPE=text/html:Join us for the 22nd Annual Jalapeño Hundred Ride. The Jalapeño 100  has been a fun ride and tradition in Harlingen for over two decades. Proceeds benefit the Harlingen Youth Athletics\, Harlingen Boys & Girls Club and other local non-profit organizations. Family activities\, Food\, Fun & Prizes!\n\nRegistration is available online at www.jalapeno100.com. For more information or to volunteer\, contact Ana Adame at 956.423.3168 or email antz4bworld@att.net.\n\n\n
LOCATION:
UID:e.1828.3409
SEQUENCE:3
DTSTAMP:20260420T211811Z
URL:https://business.harlingen.com/events/details/22nd-annual-jalape&#241;o-hundred-ride-02-18-2012-3409
END:VEVENT

END:VCALENDAR
