BEGIN:VCALENDAR
VERSION:2.0
PRODID:-//ChamberMaster//Event Calendar 2.0//EN
METHOD:PUBLISH
X-PUBLISHED-TTL:P3D
REFRESH-INTERVAL:P3D
CALSCALE:GREGORIAN
BEGIN:VEVENT
DTSTART:20120224T000000Z
DTEND:20120224T000000Z
X-MICROSOFT-CDO-ALLDAYEVENT:FALSE
SUMMARY:23rd Annual Celebrity Roast honoring Harlingen High Cardinals Coach Manny Gomez
DESCRIPTION:The Literacy Center of Harlingen will host its 23 annual Celebrity Roast on Thursday\, February 23\, 2012 at Valley Race Park. The event will begin at 6:00 p.m. with a cash bar\, dinner at 7:00 p.m.\, followed by the "Roast." \n\nThis year we will be honoring (and "roasting") the head football coach of Harlingen High School\, Manny Gomez.  The line-up of roasters scheduled include players\, friends and sports writers\, who should provide an evening of fun and laughs.  All proceeds from this event will benefit the Literacy Center of Harlingen.\n\nPlease plan to join us.  Ticket prices are $65 per person or a table of ten for $600.  Tickets may be obtained at the LIteracy Center located at 101 E. Monroe or at the Harlingen Chamber of Commerce.  For more information\, please contact Linda Klowetter\, Director of the Literacy Center at (956) 428-8883.  Visit our web-site at literacycenterofharlingen.org
X-ALT-DESC;FMTTYPE=text/html:The Literacy Center of Harlingen will host its 23 annual Celebrity Roast on Thursday\, February 23\, 2012 at Valley Race Park. The event will begin at 6:00 p.m. with a cash bar\, dinner at 7:00 p.m.\, followed by the "Roast." \n\nThis year we will be honoring (and "roasting") the head football coach of Harlingen High School\, Manny Gomez.  The line-up of roasters scheduled include players\, friends and sports writers\, who should provide an evening of fun and laughs.  All proceeds from this event will benefit the Literacy Center of Harlingen.\n\nPlease plan to join us.  Ticket prices are $65 per person or a table of ten for $600.  Tickets may be obtained at the LIteracy Center located at 101 E. Monroe or at the Harlingen Chamber of Commerce.  For more information\, please contact Linda Klowetter\, Director of the Literacy Center at (956) 428-8883.  Visit our web-site at literacycenterofharlingen.org \n
LOCATION:
UID:e.1828.3418
SEQUENCE:3
DTSTAMP:20260420T213653Z
URL:https://business.harlingen.com/events/details/23rd-annual-celebrity-roast-honoring-harlingen-high-cardinals-coach-manny-gomez-02-23-2012-3418
END:VEVENT

END:VCALENDAR
