BEGIN:VCALENDAR
VERSION:2.0
PRODID:-//ChamberMaster//Event Calendar 2.0//EN
METHOD:PUBLISH
X-PUBLISHED-TTL:P3D
REFRESH-INTERVAL:P3D
CALSCALE:GREGORIAN
BEGIN:VEVENT
DTSTART:20100917T180000Z
DTEND:20100917T180000Z
X-MICROSOFT-CDO-ALLDAYEVENT:FALSE
SUMMARY:23rd Annual Valley Proud Golf Tournament
DESCRIPTION:23rd Annual Valley Proud Golf Tournament\, Friday\, September 17\, 2010 at Los Lagos Golf Club\, 1720 S. Raul Longoria\, Edinburg\, TX.  Shotgun Start: 1:00pm.  Brought to you by KGBT Action 4 News Fugitive Finder.  For more information\, contact the Rio Grande Valley Partnership at 956/968-3141.  Sponsorships still available.
X-ALT-DESC;FMTTYPE=text/html:23rd Annual Valley Proud Golf Tournament\, Friday\, September 17\, 2010 at Los Lagos Golf Club\, 1720 S. Raul Longoria\, Edinburg\, TX.  Shotgun Start: 1:00pm.  Brought to you by KGBT Action 4 News Fugitive Finder.  For more information\, contact the Rio Grande Valley Partnership at 956/968-3141.  Sponsorships still available.\n
LOCATION:
UID:e.1828.2646
SEQUENCE:3
DTSTAMP:20260422T001828Z
URL:https://business.harlingen.com/events/details/23rd-annual-valley-proud-golf-tournament-09-17-2010-2646
END:VEVENT

END:VCALENDAR
