BEGIN:VCALENDAR
VERSION:2.0
PRODID:-//ChamberMaster//Event Calendar 2.0//EN
METHOD:PUBLISH
X-PUBLISHED-TTL:P3D
REFRESH-INTERVAL:P3D
CALSCALE:GREGORIAN
BEGIN:VEVENT
DTSTART:20111006T230000Z
DTEND:20111007T020000Z
X-MICROSOFT-CDO-ALLDAYEVENT:FALSE
SUMMARY:25 Anniversary Golden Palms Retirement and Healthcare Center
DESCRIPTION:Please join us for the Golden Palms Retirement and Healthcare Center 25 Anniversary.\nRSVP Norma Castillo 956-793-1393
X-ALT-DESC;FMTTYPE=text/html:Please join us for the Golden Palms Retirement and Healthcare Center 25 Anniversary.\nRSVP Norma Castillo 956-793-1393
LOCATION:
UID:e.1828.3193
SEQUENCE:3
DTSTAMP:20260421T021756Z
URL:https://business.harlingen.com/events/details/25-anniversary-golden-palms-retirement-and-healthcare-center-10-06-2011-3193
END:VEVENT

END:VCALENDAR
