BEGIN:VCALENDAR
VERSION:2.0
PRODID:-//ChamberMaster//Event Calendar 2.0//EN
METHOD:PUBLISH
X-PUBLISHED-TTL:P3D
REFRESH-INTERVAL:P3D
CALSCALE:GREGORIAN
BEGIN:VEVENT
DTSTART:20111006T230000Z
DTEND:20111006T140000Z
X-MICROSOFT-CDO-ALLDAYEVENT:FALSE
SUMMARY:25th Anniversary
DESCRIPTION:Golden Palms celebrates its 25th year of service to the City of Harlingen and to retirees from all over. Come celebrate this special evening with us.
X-ALT-DESC;FMTTYPE=text/html:Golden Palms celebrates its 25th year of service to the City of Harlingen and to retirees from all over. Come celebrate this special evening with us.
LOCATION:2101 Treasure Hills Blvd Harlingen
UID:e.1828.3240
SEQUENCE:3
DTSTAMP:20260421T021016Z
URL:https://business.harlingen.com/events/details/25th-anniversary-10-06-2011-3240
END:VEVENT

END:VCALENDAR
