BEGIN:VCALENDAR
VERSION:2.0
PRODID:-//ChamberMaster//Event Calendar 2.0//EN
METHOD:PUBLISH
X-PUBLISHED-TTL:P3D
REFRESH-INTERVAL:P3D
CALSCALE:GREGORIAN
BEGIN:VEVENT
DTSTART:20100109T160000Z
DTEND:20100109T160000Z
X-MICROSOFT-CDO-ALLDAYEVENT:FALSE
SUMMARY:26th Annual Longest Causeway Run & Fitness Walk
DESCRIPTION:START: Causeway Run starts at 10 a.m. sharp. Fitness Walk starts at 10:15 a.m. sharp.\n\nCOST: Causeway Run $15.00. Fitness Walk $10.00. Students: $5.00 with school ID.\n\nEARLY REGISTRATION: Before December 31\, 2009\, mail to Port Isabel Chamber of Commerce\, 421 E. Queen Isabella Blvd.\, Port Isabel\, TX 78578 or register in person until 5 pm Thursday\, Jan. 7th\, 2010 at the Chamber office.\n\nLATE REGISTRATION IN PERSON: Friday\, Jan. 8\, 2010\, 5-7 pm.\, Port Isabel Community Center\, 213 Yturria St.. Saturday\, Jan. 9\, 2010\, 7-9 a.m.\, Port Isabel Community Center\, 213 Yturria St. Cutoff time is 9 a.m. SHARP. LATE FEE: Add $5.00 per registrant. No credit card use during late registration.\n\nT-SHIRT and BIB PICK-UP: Participants may check in at the Port Isabel Chamber office the week of the event or on Friday\, January 8th\, 5:30 p.m. to 7:00 p.m. and Saturday\, January 9th\, 7:00 to 9:00 a.m. at the Port Isabel Community Center\, 213 Yturria St. T-Shirts are guaranteed to the first 2\,000 participants to check in. (Sizes cannot be guaranteed.) RUNNERS TIMING CHIPS WILL BE HANDED OUT ON FRIDAY & SATURDAY.\n\nRACE COURSE: 10K (6.2 mi.) Starts at the Port Isabel Community Center on Yturria St. Ends at the tented area\, roadside\, in front of Louie's Backyard South Padre Island. One major incline. Water stations at the end of the Causeway\, one other location\, and at the end of the race. There will be police protection and EMS services. The run is USA Track and Field certified: Certification #TX05009WG. \n \nFITNESS WALK COURSE: 3 miles. This course starts at Port Isabel Community Center\, then right on Davis St.\, right on Musina St.\, left on Maxan St.\, right on Garcia St. and left on Highway 100. The finish line will be at the Padre Balli Statue on South Padre Island. Shuttle service will be available to the tented area in front of Louie's Backyard to the runner's awards ceremony or back to Port Isabel. THIS IS NOT A RACE. THIS IS A PARTICIPATION WALK. There will be no awards given to
X-ALT-DESC;FMTTYPE=text/html:START: Causeway Run starts at 10 a.m. sharp. Fitness Walk starts at 10:15 a.m. sharp.\n\nCOST: Causeway Run $15.00. Fitness Walk $10.00. Students: $5.00 with school ID.\n\nEARLY REGISTRATION: Before December 31\, 2009\, mail to Port Isabel Chamber of Commerce\, 421 E. Queen Isabella Blvd.\, Port Isabel\, TX 78578 or register in person until 5 pm Thursday\, Jan. 7th\, 2010 at the Chamber office.\n\nLATE REGISTRATION IN PERSON: Friday\, Jan. 8\, 2010\, 5-7 pm.\, Port Isabel Community Center\, 213 Yturria St.. Saturday\, Jan. 9\, 2010\, 7-9 a.m.\, Port Isabel Community Center\, 213 Yturria St. Cutoff time is 9 a.m. SHARP. LATE FEE: Add $5.00 per registrant. No credit card use during late registration.\n\nT-SHIRT and BIB PICK-UP: Participants may check in at the Port Isabel Chamber office the week of the event or on Friday\, January 8th\, 5:30 p.m. to 7:00 p.m. and Saturday\, January 9th\, 7:00 to 9:00 a.m. at the Port Isabel Community Center\, 213 Yturria St. T-Shirts are guaranteed to the first 2\,000 participants to check in. (Sizes cannot be guaranteed.) RUNNERS TIMING CHIPS WILL BE HANDED OUT ON FRIDAY & SATURDAY.\n\nRACE COURSE: 10K (6.2 mi.) Starts at the Port Isabel Community Center on Yturria St. Ends at the tented area\, roadside\, in front of Louie's Backyard South Padre Island. One major incline. Water stations at the end of the Causeway\, one other location\, and at the end of the race. There will be police protection and EMS services. The run is USA Track and Field certified: Certification #TX05009WG. \n \nFITNESS WALK COURSE: 3 miles. This course starts at Port Isabel Community Center\, then right on Davis St.\, right on Musina St.\, left on Maxan St.\, right on Garcia St. and left on Highway 100. The finish line will be at the Padre Balli Statue on South Padre Island. Shuttle service will be available to the tented area in front of Louie's Backyard to the runner's awards ceremony or back to Port Isabel. THIS IS NOT A RACE. THIS IS A PARTICIPATION WALK. There will be no awards given to
LOCATION:
UID:e.1828.2172
SEQUENCE:3
DTSTAMP:20260422T112350Z
URL:https://business.harlingen.com/events/details/26th-annual-longest-causeway-run-fitness-walk-01-09-2010-2172
END:VEVENT

END:VCALENDAR
