BEGIN:VCALENDAR
VERSION:2.0
PRODID:-//ChamberMaster//Event Calendar 2.0//EN
METHOD:PUBLISH
X-PUBLISHED-TTL:P3D
REFRESH-INTERVAL:P3D
CALSCALE:GREGORIAN
BEGIN:VEVENT
DTSTART;VALUE=DATE:20110802
DTEND;VALUE=DATE:20110803
TRANSP:TRANSPARENT
X-MICROSOFT-CDO-ALLDAYEVENT:TRUE
SUMMARY:28th Anniversary NATIONAL NIGHT OUT 2011 celebration!
DESCRIPTION:28th Anniversary\nBUILDING BETTER POLICE - COMMUNITY PARTNERSHIPS\nWelcome to our NATIONAL NIGHT OUT 2011 celebration!\n\nWe thank you for your support of our local crime prevention and awareness campaign. We sincerely hope your participation will be most enjoyable and rewarding! This year's celebration theme is "Super Heroes."\n\nPlease support this year's celebration theme through your active participation in event promotions\, theme wearable's\, and booth decoration contest. We encourage your creativity and design in helping us promote this year's theme.\nYour Partner Packet contains important information regarding Harlingen Police Department National Night Out 2011.\nIf you have questions or need further assistance\, please let us know. We look forward to serving you as we build better police-community partnerships!\n \nSincerely\,\nSpecial Services Division\n \nContact:\nHARLINGEN POLICE DEPARTMENT\nSPECIAL SERVICES DIVISION\n1018 Fair Park Blvd\nHARLINGEN\, TEXAS 78550\n(956) 216-5493
X-ALT-DESC;FMTTYPE=text/html:28th Anniversary\nBUILDING BETTER POLICE - COMMUNITY PARTNERSHIPS\nWelcome to our NATIONAL NIGHT OUT 2011 celebration!\n\nWe thank you for your support of our local crime prevention and awareness campaign. We sincerely hope your participation will be most enjoyable and rewarding! This year's celebration theme is "Super Heroes."\n\nPlease support this year's celebration theme through your active participation in event promotions\, theme wearable's\, and booth decoration contest. We encourage your creativity and design in helping us promote this year's theme.\nYour Partner Packet contains important information regarding Harlingen Police Department National Night Out 2011.\nIf you have questions or need further assistance\, please let us know. We look forward to serving you as we build better police-community partnerships!\n \nSincerely\,\nSpecial Services Division\n \nContact:\nHARLINGEN POLICE DEPARTMENT\nSPECIAL SERVICES DIVISION\n1018 Fair Park Blvd\nHARLINGEN\, TEXAS 78550\n(956) 216-5493\n
LOCATION:
UID:e.1828.3120
SEQUENCE:3
DTSTAMP:20260421T052036Z
URL:https://business.harlingen.com/events/details/28th-anniversary-national-night-out-2011-celebration-08-02-2011-3120
END:VEVENT

END:VCALENDAR
