BEGIN:VCALENDAR
VERSION:2.0
PRODID:-//ChamberMaster//Event Calendar 2.0//EN
METHOD:PUBLISH
X-PUBLISHED-TTL:P3D
REFRESH-INTERVAL:P3D
CALSCALE:GREGORIAN
BEGIN:VEVENT
DTSTART:20091022T133000Z
DTEND:20091022T203000Z
X-MICROSOFT-CDO-ALLDAYEVENT:FALSE
SUMMARY:2nd Annual Employers and Rehabilitative Network Forum
DESCRIPTION:DARS\, in partnership with Workforce Solutions/Cameron\, invites you to the 2nd Annual E A R N Forum celebrating October's National Disability Employment Awareness Month ''Expectation + Opportunity = Full Participation ''.  \nThe forum will take place on Thursday\, October 22\, 2009 at the UTB ITEC CAMPUS in the OLD AMIGOLAND MALL.\nFor more information please call Bruce Bell at DARS at 956-389-8950\, or Workforce Solutions Cameron at 956-547-5040 in Brownsville or 425-6461 in Harlingen.
X-ALT-DESC;FMTTYPE=text/html:DARS\, in partnership with Workforce Solutions/Cameron\, invites you to the 2nd Annual E A R N Forum celebrating October's National Disability Employment Awareness Month ''Expectation + Opportunity = Full Participation ''.  \nThe forum will take place on Thursday\, October 22\, 2009 at the UTB ITEC CAMPUS in the OLD AMIGOLAND MALL.\nFor more information please call Bruce Bell at DARS at 956-389-8950\, or Workforce Solutions Cameron at 956-547-5040 in Brownsville or 425-6461 in Harlingen.\n
LOCATION:Located in the old Amigoland mall.
UID:e.1828.2157
SEQUENCE:3
DTSTAMP:20260422T112141Z
URL:https://business.harlingen.com/events/details/2nd-annual-employers-and-rehabilitative-network-forum-10-22-2009-2157
END:VEVENT

END:VCALENDAR
