BEGIN:VCALENDAR
VERSION:2.0
PRODID:-//ChamberMaster//Event Calendar 2.0//EN
METHOD:PUBLISH
X-PUBLISHED-TTL:P3D
REFRESH-INTERVAL:P3D
CALSCALE:GREGORIAN
BEGIN:VEVENT
DTSTART:20100619T233000Z
DTEND:20100619T233000Z
X-MICROSOFT-CDO-ALLDAYEVENT:FALSE
SUMMARY:2nd Annual Family Movie Nights Car Show
DESCRIPTION:It is set! The 2nd Annual Family Movie Nights Car Show promises to have a great display of great cars\; some old\, some fast\, and some that just ride slow and low. We also will be honoring our beloved friend\, car enthusiast\, and supporter Carl L. Johnson. So bring your children and cameras as it is sure to be a great time for all. It's all free\, so bring the family\, and enjoy all of the free food\, family games and great outdoor movie\; not to mention our great car show.
X-ALT-DESC;FMTTYPE=text/html:It is set! The 2nd Annual Family Movie Nights Car Show promises to have a great display of great cars\; some old\, some fast\, and some that just ride slow and low. We also will be honoring our beloved friend\, car enthusiast\, and supporter Carl L. Johnson. So bring your children and cameras as it is sure to be a great time for all. It's all free\, so bring the family\, and enjoy all of the free food\, family games and great outdoor movie\; not to mention our great car show.  \n
LOCATION:Corner A Street & Jackson
UID:e.1828.2560
SEQUENCE:3
DTSTAMP:20260422T051642Z
URL:https://business.harlingen.com/events/details/2nd-annual-family-movie-nights-car-show-06-19-2010-2560
END:VEVENT

END:VCALENDAR
