BEGIN:VCALENDAR
VERSION:2.0
PRODID:-//ChamberMaster//Event Calendar 2.0//EN
METHOD:PUBLISH
X-PUBLISHED-TTL:P3D
REFRESH-INTERVAL:P3D
CALSCALE:GREGORIAN
BEGIN:VEVENT
DTSTART:20201029T030000Z
DTEND:20201128T220000Z
X-MICROSOFT-CDO-ALLDAYEVENT:FALSE
SUMMARY:2nd Annual Resaca Art Exhibit
DESCRIPTION:The Brownsville Museum of Fine Art and the Brownsville Public Utilities Board invite all artists in the Rio Grande Valley and Matamoros Mexico to submit art pieces to response to Brownsville Resaca's Artwork. Participating artists will have the opportunity to not only express themselves\, but also to share with others through their interpretation of the RESACAS & Wildlife through two-dimensional and three-dimensional artworks. The exhibition will serve to raise awareness on the environmental and ecological impact to the RESACAS and promote how it highlights the City of Brownsville's natural beauty. The art pieces will be exhibit at the BMFA from October 28 thru November 28\, 2020.   Registration deadline: Saturday October 3rd.\, 2020 via email to d.duarte@brownsvillemfa.org and Cc. dramirez@brownsvillemfa.org   Art delivery dates: October 15 and 16\, 2020 (at the BMFA located at 660 E. Ringgold St. Brownsville\, TX. 78520\, during museum hours).   Exhibition dates: October 28 thru November 28\, 2020.   Art must be picked up on November 30 and December 1st.\, 2020 during museum hours. If the art piece is not picked up during those days\, the museum will charge to the artist $30.00 storage and handling fees if the art piece is not pick up after 30 days the art piece will become Museum's property.   Opening event's date and time pending to be announced.
X-ALT-DESC;FMTTYPE=text/html:The Brownsville Museum of Fine Art and the Brownsville Public Utilities Board invite all artists in the Rio Grande Valley and Matamoros Mexico to submit art pieces to response to Brownsville Resaca&rsquo\;s Artwork. Participating artists will have the opportunity to not only express themselves\, but also to share with others through their interpretation of the RESACAS &amp\; Wildlife through two-dimensional and three-dimensional artworks. The exhibition will serve to raise awareness on the environmental and ecological impact to the RESACAS and promote how it highlights the City of Brownsville&rsquo\;s natural beauty. The art pieces will be exhibit at the BMFA from October 28 thru November 28\, 2020. &bull\; Registration deadline: Saturday October 3rd.\, 2020 via email to d.duarte@brownsvillemfa.org and Cc. dramirez@brownsvillemfa.org &bull\; Art delivery dates: October 15 and 16\, 2020 (at the BMFA located at 660 E. Ringgold St. Brownsville\, TX. 78520\, during museum hours). &bull\; Exhibition dates: October 28 thru November 28\, 2020. &bull\; Art must be picked up on November 30 and December 1st.\, 2020 during museum hours. If the art piece is not picked up during those days\, the museum will charge to the artist $30.00 storage and handling fees if the art piece is not pick up after 30 days the art piece will become Museum&rsquo\;s property. &bull\; Opening event&rsquo\;s date and time pending to be announced.
LOCATION:Brownsville Museum of Fine Art
UID:e.1828.16280
SEQUENCE:3
DTSTAMP:20260420T194710Z
URL:https://business.harlingen.com/events/details/2nd-annual-resaca-art-exhibit-16280
END:VEVENT

END:VCALENDAR
