BEGIN:VCALENDAR
VERSION:2.0
PRODID:-//ChamberMaster//Event Calendar 2.0//EN
METHOD:PUBLISH
X-PUBLISHED-TTL:P3D
REFRESH-INTERVAL:P3D
CALSCALE:GREGORIAN
BEGIN:VEVENT
DTSTART:20100722T230000Z
DTEND:20100722T230000Z
X-MICROSOFT-CDO-ALLDAYEVENT:FALSE
SUMMARY:2nd Annual Stephanie Zinn Memorial Fundraiser
DESCRIPTION:The Humane Society of Harlingen invites you to the 2nd Annual Stephanie Zinn Memorial Fundraiser.  There will be a dinner and silent auction.  Proceeds to help fund the Humane Society.  For more information\, please contact Annie at 956-428-3418 or Pat at 956-245-6523.
X-ALT-DESC;FMTTYPE=text/html:The Humane Society of Harlingen invites you to the 2nd Annual Stephanie Zinn Memorial Fundraiser.  There will be a dinner and silent auction.  Proceeds to help fund the Humane Society.  For more information\, please contact Annie at 956-428-3418 or Pat at 956-245-6523.
LOCATION:
UID:e.1828.2590
SEQUENCE:3
DTSTAMP:20260422T015542Z
URL:https://business.harlingen.com/events/details/2nd-annual-stephanie-zinn-memorial-fundraiser-07-22-2010-2590
END:VEVENT

END:VCALENDAR
