BEGIN:VCALENDAR
VERSION:2.0
PRODID:-//ChamberMaster//Event Calendar 2.0//EN
METHOD:PUBLISH
X-PUBLISHED-TTL:P3D
REFRESH-INTERVAL:P3D
CALSCALE:GREGORIAN
BEGIN:VEVENT
DTSTART;VALUE=DATE:20100513
DTEND;VALUE=DATE:20100514
TRANSP:TRANSPARENT
X-MICROSOFT-CDO-ALLDAYEVENT:TRUE
SUMMARY:2nd Annual Stephanie Zinn Memorial Fundraiser Honoring Dial Dunkin
DESCRIPTION:The evening will include a silent auction and dinner at the Top of the Park at Valley Race Park.  All proceeds go to the support of the Humane Society of Harlingen.  Come join the celebration honoring Dial Dunkin for his generosity and community mindedness.  After dinner\, sit back & enjoy a few of Mr. Dunkin's closest friends in a roast-style tribute.  Individual tickets are $85 each and tables of ten are available for $800.  For more information on purchasing tickets\, sponsorships or to make a donation for the silent auction\, please call 956-425-7297.
X-ALT-DESC;FMTTYPE=text/html:The evening will include a silent auction and dinner at the Top of the Park at Valley Race Park.  All proceeds go to the support of the Humane Society of Harlingen.  Come join the celebration honoring Dial Dunkin for his generosity and community mindedness.  After dinner\, sit back & enjoy a few of Mr. Dunkin's closest friends in a roast-style tribute.  Individual tickets are $85 each and tables of ten are available for $800.  For more information on purchasing tickets\, sponsorships or to make a donation for the silent auction\, please call 956-425-7297.
LOCATION:
UID:e.1828.2478
SEQUENCE:3
DTSTAMP:20260422T062900Z
URL:https://business.harlingen.com/events/details/2nd-annual-stephanie-zinn-memorial-fundraiser-honoring-dial-dunkin-05-13-2010-2478
END:VEVENT

END:VCALENDAR
