BEGIN:VCALENDAR
VERSION:2.0
PRODID:-//ChamberMaster//Event Calendar 2.0//EN
METHOD:PUBLISH
X-PUBLISHED-TTL:P3D
REFRESH-INTERVAL:P3D
CALSCALE:GREGORIAN
BEGIN:VEVENT
DTSTART;VALUE=DATE:20111027
DTEND;VALUE=DATE:20111028
TRANSP:TRANSPARENT
X-MICROSOFT-CDO-ALLDAYEVENT:TRUE
SUMMARY:2nd Annual Texas Hold Em Tournament to benefit IDEA Public Schools
DESCRIPTION:Register today for the 2nd annual Texas Hold Em Tournament benefiting IDEA Public Schools on Thursday\, October 27th in Brownsville.  Help IDEA Public Schools BEAT THE ODDS by sending more students to college.\n\nVIP Reception 6:00pm\nRegistration: 6:30pm\nPlay begins promptly at 7:00pm\n\nWe are seeking sponsors\, prizes and players to attend.  Register online today to reserve your seat http://donate.ideapublicschools.org/texasholdem2011-- limited to the first 200 players. \n \nLast year's event was sold out\, so don't wait to register!  All questions can be directed to Lindsey Schaefer at 956-373-5814 or lindsey.schaefer@ideapublicschools.org
X-ALT-DESC;FMTTYPE=text/html:Register today for the 2nd annual Texas Hold Em Tournament benefiting IDEA Public Schools on Thursday\, October 27th in Brownsville.  Help IDEA Public Schools BEAT THE ODDS by sending more students to college.\n\nVIP Reception 6:00pm\nRegistration: 6:30pm\nPlay begins promptly at 7:00pm\n\nWe are seeking sponsors\, prizes and players to attend.  Register online today to reserve your seat http://donate.ideapublicschools.org/texasholdem2011-- limited to the first 200 players. \n \nLast year's event was sold out\, so don't wait to register!  All questions can be directed to Lindsey Schaefer at 956-373-5814 or lindsey.schaefer@ideapublicschools.org\n
LOCATION:
UID:e.1828.3195
SEQUENCE:3
DTSTAMP:20260421T021656Z
URL:https://business.harlingen.com/events/details/2nd-annual-texas-hold-em-tournament-to-benefit-idea-public-schools-10-27-2011-3195
END:VEVENT

END:VCALENDAR
