BEGIN:VCALENDAR
VERSION:2.0
PRODID:-//ChamberMaster//Event Calendar 2.0//EN
METHOD:PUBLISH
X-PUBLISHED-TTL:P3D
REFRESH-INTERVAL:P3D
CALSCALE:GREGORIAN
BEGIN:VEVENT
DTSTART;VALUE=DATE:20121011
DTEND;VALUE=DATE:20121015
TRANSP:TRANSPARENT
X-MICROSOFT-CDO-ALLDAYEVENT:TRUE
SUMMARY:33rd Annual Texas Hispanic Genealogical and Historical Conference to Los Caminos de Rio
DESCRIPTION:Registration form available at : http://www.rgvhispanicgenealogicalsociety.com  Contacts: Ofelia Olsson\norolsson@rgv.rr.com or Annie Barrera @ 956-454-9419. Register by September 7th.
X-ALT-DESC;FMTTYPE=text/html:Registration form available at : http://www.rgvhispanicgenealogicalsociety.com  Contacts: Ofelia Olsson\norolsson@rgv.rr.com or Annie Barrera @ 956-454-9419. Register by September 7th. 
LOCATION:
UID:e.1828.3980
SEQUENCE:3
DTSTAMP:20260420T101822Z
URL:https://business.harlingen.com/events/details/33rd-annual-texas-hispanic-genealogical-and-historical-conference-to-los-caminos-de-rio-10-11-2012-3980
END:VEVENT

END:VCALENDAR
