BEGIN:VCALENDAR
VERSION:2.0
PRODID:-//ChamberMaster//Event Calendar 2.0//EN
METHOD:PUBLISH
X-PUBLISHED-TTL:P3D
REFRESH-INTERVAL:P3D
CALSCALE:GREGORIAN
BEGIN:VEVENT
DTSTART:20111211T010000Z
DTEND:20111211T010000Z
X-MICROSOFT-CDO-ALLDAYEVENT:FALSE
SUMMARY:36th Annual Extravaganza Folklorica
DESCRIPTION:Gloria G. Canales Mexican Folklore School of Dance presents The 36th Annual Extravaganza Folklorica \nLive music from Mariachi Los Gavilanes de Jesus Vela. Tickets available at: Gloria G. Canales 423-0401\, Harlingen Municipal Auditorium 216-5990\, and the Harlingen Chamber of Commerce 423-5440.
X-ALT-DESC;FMTTYPE=text/html:Gloria G. Canales Mexican Folklore School of Dance presents The 36th Annual Extravaganza Folklorica \nLive music from Mariachi Los Gavilanes de Jesus Vela. Tickets available at: Gloria G. Canales 423-0401\, Harlingen Municipal Auditorium 216-5990\, and the Harlingen Chamber of Commerce 423-5440.  \n
LOCATION:
UID:e.1828.3280
SEQUENCE:3
DTSTAMP:20260421T003106Z
URL:https://business.harlingen.com/events/details/36th-annual-extravaganza-folklorica-12-10-2011-3280
END:VEVENT

END:VCALENDAR
