BEGIN:VCALENDAR
VERSION:2.0
PRODID:-//ChamberMaster//Event Calendar 2.0//EN
METHOD:PUBLISH
X-PUBLISHED-TTL:P3D
REFRESH-INTERVAL:P3D
CALSCALE:GREGORIAN
BEGIN:VEVENT
DTSTART:20100403T150000Z
DTEND:20100403T200000Z
X-MICROSOFT-CDO-ALLDAYEVENT:FALSE
SUMMARY:3rd Annual Jackson Street Classic Car Show & Swap Meet
DESCRIPTION:Check out sleek tail fins\, shiny hood ornaments\, and hot-rodding horsepower at the annual Jackson Street Classic Car Show\, free and open to the public from 10 a.m. to 3 p.m.  On-site registration for cars is between 8 and 10 a.m.\; entry fee is a non-perishable food product for the RGV Food Bank.  The first 100 entrants will receive a free souvenir T-Shirt.  Organized by the RGV Chapter of the Antique Automobile Club of American (AACA). This year's event will be a tribute to the late Carl Johnson\, long-time member and president of AACA.  Special ceremony declaring it "Carl Johnson Day" at 10 a.m. at Jackson & "C" Street.  For more information\, call the Harlingen Downtown Office\, (956) 216-4910.
X-ALT-DESC;FMTTYPE=text/html:Check out sleek tail fins\, shiny hood ornaments\, and hot-rodding horsepower at the annual Jackson Street Classic Car Show\, free and open to the public from 10 a.m. to 3 p.m.  On-site registration for cars is between 8 and 10 a.m.\; entry fee is a non-perishable food product for the RGV Food Bank.  The first 100 entrants will receive a free souvenir T-Shirt.  Organized by the RGV Chapter of the Antique Automobile Club of American (AACA). This year's event will be a tribute to the late Carl Johnson\, long-time member and president of AACA.  Special ceremony declaring it "Carl Johnson Day" at 10 a.m. at Jackson & "C" Street.  For more information\, call the Harlingen Downtown Office\, (956) 216-4910.\n
LOCATION:
UID:e.1828.2423
SEQUENCE:3
DTSTAMP:20260422T063833Z
URL:https://business.harlingen.com/events/details/3rd-annual-jackson-street-classic-car-show-swap-meet-04-03-2010-2423
END:VEVENT

END:VCALENDAR
