BEGIN:VCALENDAR
VERSION:2.0
PRODID:-//ChamberMaster//Event Calendar 2.0//EN
METHOD:PUBLISH
X-PUBLISHED-TTL:P3D
REFRESH-INTERVAL:P3D
CALSCALE:GREGORIAN
BEGIN:VEVENT
DTSTART:20110723T000000Z
DTEND:20110723T020000Z
X-MICROSOFT-CDO-ALLDAYEVENT:FALSE
SUMMARY:3rd Annual Stephanie Zinn Memorial Fundraiser Gala
DESCRIPTION:Please join us\, along with Stephanie's family and friends\, in an evening of celebration to honor our dear friend\, the late Stephanie Zinn. There will be music\, prizes\, a cash bar\, hors d'oeuvres\, and a silent auction. All of the proceeds will go to supporting the daily operations of the Humane Society of Harlingen. There are several ways you can be a part of this momentous event as we are currently in need of silent auction items and event sponsors. Individual tickets are $100 and tables of eight are $750. Each individual ticket will include two drink coupons\, and the tables of eight will receive sixteen drink coupons. Sponsorship tables will be available for $1\,000. Table sponsors will receive special recognition at the event along with complimentary valet parking vouchers.(Table/Ticket/Sponsor Form)
X-ALT-DESC;FMTTYPE=text/html:Please join us\, along with Stephanie's family and friends\, in an evening of celebration to honor our dear friend\, the late Stephanie Zinn. There will be music\, prizes\, a cash bar\, hors d'oeuvres\, and a silent auction. All of the proceeds will go to supporting the daily operations of the Humane Society of Harlingen. There are several ways you can be a part of this momentous event as we are currently in need of silent auction items and event sponsors. Individual tickets are $100 and tables of eight are $750. Each individual ticket will include two drink coupons\, and the tables of eight will receive sixteen drink coupons. Sponsorship tables will be available for $1\,000. Table sponsors will receive special recognition at the event along with complimentary valet parking vouchers.(Table/Ticket/Sponsor Form) \n
LOCATION:
UID:e.1828.3097
SEQUENCE:3
DTSTAMP:20260421T064240Z
URL:https://business.harlingen.com/events/details/3rd-annual-stephanie-zinn-memorial-fundraiser-gala-07-22-2011-3097
END:VEVENT

END:VCALENDAR
