BEGIN:VCALENDAR
VERSION:2.0
PRODID:-//ChamberMaster//Event Calendar 2.0//EN
METHOD:PUBLISH
X-PUBLISHED-TTL:P3D
REFRESH-INTERVAL:P3D
CALSCALE:GREGORIAN
BEGIN:VEVENT
DTSTART;VALUE=DATE:20120215
DTEND;VALUE=DATE:20120217
TRANSP:TRANSPARENT
X-MICROSOFT-CDO-ALLDAYEVENT:TRUE
SUMMARY:3rd Annual Texas Hold'Em Poker Tournament
DESCRIPTION:Rio Grande Valley Partnership Foundation & Mercedes-Benz of San Juan 3rd Annual Texas Hold'Em Poker Tournament. Mixer & Sign In: 5:30pm\, Cards In The Air: 6:30pm\, $125. per player early registration thru February 1st. After February 1st $150. per player. Limited to the first 100 paid entrants. DEEP STACK POKER\nRegister online at www.valleychamber.com\, contact Samantha at 956-968-3141\, email samantha@valleychamber.com
X-ALT-DESC;FMTTYPE=text/html:Rio Grande Valley Partnership Foundation & Mercedes-Benz of San Juan 3rd Annual Texas Hold'Em Poker Tournament. Mixer & Sign In: 5:30pm\, Cards In The Air: 6:30pm\, $125. per player early registration thru February 1st. After February 1st $150. per player. Limited to the first 100 paid entrants. DEEP STACK POKER\nRegister online at www.valleychamber.com\, contact Samantha at 956-968-3141\, email samantha@valleychamber.com
LOCATION:
UID:e.1828.3369
SEQUENCE:3
DTSTAMP:20260420T200309Z
URL:https://business.harlingen.com/events/details/3rd-annual-texas-hold-em-poker-tournament-02-15-2012-3369
END:VEVENT

END:VCALENDAR
