BEGIN:VCALENDAR
VERSION:2.0
PRODID:-//ChamberMaster//Event Calendar 2.0//EN
METHOD:PUBLISH
X-PUBLISHED-TTL:P3D
REFRESH-INTERVAL:P3D
CALSCALE:GREGORIAN
BEGIN:VEVENT
DTSTART:20100909T123000Z
DTEND:20100909T213000Z
X-MICROSOFT-CDO-ALLDAYEVENT:FALSE
SUMMARY:3rd Annual Workforce Solutions Cameron Small Cities Coalition Economic Summit
DESCRIPTION:This year's Workforce Solutions Cameron Economic Summit will focus on providing the tools & information needed to promote economic growth in rural communities.  Keynote speakers will be Greg Clary\, PhD\, Economist & Alan F.J. Artibise\, Provost for UTB/TSC in Brownsville.  For more information or to register for the event\,  please visit the website at www.wfscameron.org/scc.html or email Rosie Silva at economicsummit2010@camwksinc.org
X-ALT-DESC;FMTTYPE=text/html:This year's Workforce Solutions Cameron Economic Summit will focus on providing the tools & information needed to promote economic growth in rural communities.  Keynote speakers will be Greg Clary\, PhD\, Economist & Alan F.J. Artibise\, Provost for UTB/TSC in Brownsville.  For more information or to register for the event\,  please visit the website at www.wfscameron.org/scc.html or email Rosie Silva at economicsummit2010@camwksinc.org
LOCATION:
UID:e.1828.2718
SEQUENCE:3
DTSTAMP:20260422T001509Z
URL:https://business.harlingen.com/events/details/3rd-annual-workforce-solutions-cameron-small-cities-coalition-economic-summit-09-09-2010-2718
END:VEVENT

END:VCALENDAR
