BEGIN:VCALENDAR
VERSION:2.0
PRODID:-//ChamberMaster//Event Calendar 2.0//EN
METHOD:PUBLISH
X-PUBLISHED-TTL:P3D
REFRESH-INTERVAL:P3D
CALSCALE:GREGORIAN
BEGIN:VEVENT
DTSTART:20120229T000000Z
DTEND:20120229T000000Z
X-MICROSOFT-CDO-ALLDAYEVENT:FALSE
SUMMARY:40th Anniversary celebration of Rotary Club of North Harlingen
DESCRIPTION:Join us at Golden Palms Texas Room to celebrate our 40th Anniversary. RSVP requested by February 13th\, call Minerva Simpson 956-440-1521.  Black & White Cocktail Attire $50.00 per person valet parking.
X-ALT-DESC;FMTTYPE=text/html:Join us at Golden Palms Texas Room to celebrate our 40th Anniversary. RSVP requested by February 13th\, call Minerva Simpson 956-440-1521.  Black & White Cocktail Attire $50.00 per person valet parking.\n
LOCATION:
UID:e.1828.3429
SEQUENCE:3
DTSTAMP:20260420T201029Z
URL:https://business.harlingen.com/events/details/40th-anniversary-celebration-of-rotary-club-of-north-harlingen-02-28-2012-3429
END:VEVENT

END:VCALENDAR
