BEGIN:VCALENDAR
VERSION:2.0
PRODID:-//ChamberMaster//Event Calendar 2.0//EN
METHOD:PUBLISH
X-PUBLISHED-TTL:P3D
REFRESH-INTERVAL:P3D
CALSCALE:GREGORIAN
BEGIN:VEVENT
DTSTART;VALUE=DATE:20120331
DTEND;VALUE=DATE:20120402
TRANSP:TRANSPARENT
X-MICROSOFT-CDO-ALLDAYEVENT:TRUE
SUMMARY:44th Annual Garden Show
DESCRIPTION:Linda Stone\, Region VI Director of Texas Garden Clubs\; Jean Olson\, President of Town   and Mary Hammar. Accredited Flower Show Judge\, present ideas for creative floral designs in advance of annual flower show.\n\nWhen: Saturday\, March 31 & Sunday\, April 1\, 2012\nHours: 1 to 5 p.m. Saturday & 1 to 4:30 p.m. Sunday\nAdmission: Free\nPotted plants\, bedding plants and garden items on sale\noutside auditorium.
X-ALT-DESC;FMTTYPE=text/html:Linda Stone\, Region VI Director of Texas Garden Clubs\; Jean Olson\, President of Town & Country Garden Club\; and Mary Hammar. Accredited Flower Show Judge\, present ideas for creative floral designs in advance of annual flower show.\n\nWhen: Saturday\, March 31 & Sunday\, April 1\, 2012\nHours: 1 to 5 p.m. Saturday & 1 to 4:30 p.m. Sunday\nAdmission: Free\nPotted plants\, bedding plants and garden items on sale\noutside auditorium.
LOCATION:
UID:e.1828.3588
SEQUENCE:3
DTSTAMP:20260420T181844Z
URL:https://business.harlingen.com/events/details/44th-annual-garden-show-03-31-2012-3588
END:VEVENT

END:VCALENDAR
