BEGIN:VCALENDAR
VERSION:2.0
PRODID:-//ChamberMaster//Event Calendar 2.0//EN
METHOD:PUBLISH
X-PUBLISHED-TTL:P3D
REFRESH-INTERVAL:P3D
CALSCALE:GREGORIAN
BEGIN:VEVENT
DTSTART:20100424T150000Z
DTEND:20100424T180000Z
X-MICROSOFT-CDO-ALLDAYEVENT:FALSE
SUMMARY:4TH ANNUAL "DIAMONDS IN THE SKY" FAMILY KITE DAY
DESCRIPTION:4TH ANNUAL "DIAMONDS IN THE SKY" FAMILY KITE DAY\, SATURDAY\, APRIL 24\, 2010.  The Harlingen Parks and Recreation Department is hosting their 4th Annual "Diamonds in the Sky" event. Kids of all ages will enjoy\nflying their kite with their families and friends. We will have a kite flying competition\, and kids will have the opportunity to build their own kite by using the Valley Morning Star Newspaper and enter into a contest during the event. Prizes will be given away to the winners. Location: Sports Complex Park - Behind the\nAdult Softball Fields\, 3139 Wilson Road. Time: 10:00 a.m. to 1:00 p.m. Date: Saturday\, April 24\, 2010.  For more information call the parks department at 956-216-5950.
X-ALT-DESC;FMTTYPE=text/html:4TH ANNUAL "DIAMONDS IN THE SKY" FAMILY KITE DAY\, SATURDAY\, APRIL 24\, 2010.  The Harlingen Parks and Recreation Department is hosting their 4th Annual "Diamonds in the Sky" event. Kids of all ages will enjoy\nflying their kite with their families and friends. We will have a kite flying competition\, and kids will have the opportunity to build their own kite by using the Valley Morning Star Newspaper and enter into a contest during the event. Prizes will be given away to the winners. Location: Sports Complex Park - Behind the\nAdult Softball Fields\, 3139 Wilson Road. Time: 10:00 a.m. to 1:00 p.m. Date: Saturday\, April 24\, 2010.  For more information call the parks department at 956-216-5950.
LOCATION:Behind the Adult Softball Fields
UID:e.1828.2402
SEQUENCE:3
DTSTAMP:20260422T063639Z
URL:https://business.harlingen.com/events/details/4th-annual-diamonds-in-the-sky-family-kite-day-04-24-2010-2402
END:VEVENT

END:VCALENDAR
