BEGIN:VCALENDAR
VERSION:2.0
PRODID:-//ChamberMaster//Event Calendar 2.0//EN
METHOD:PUBLISH
X-PUBLISHED-TTL:P3D
REFRESH-INTERVAL:P3D
CALSCALE:GREGORIAN
BEGIN:VEVENT
DTSTART:20091029T140000Z
DTEND:20091029T180000Z
X-MICROSOFT-CDO-ALLDAYEVENT:FALSE
SUMMARY:4th Annual Eco Tourism Summit
DESCRIPTION:Lunch provided.  Ranch tour 1:30 pm.  Attire Cowboy Casual.  For more information\, contact the Raymondville Chamber of Commerce at 956-689-3171.
X-ALT-DESC;FMTTYPE=text/html:Lunch provided.  Ranch tour 1:30 pm.  Attire Cowboy Casual.  For more information\, contact the Raymondville Chamber of Commerce at 956-689-3171.
LOCATION:
UID:e.1828.2166
SEQUENCE:3
DTSTAMP:20260422T111918Z
URL:https://business.harlingen.com/events/details/4th-annual-eco-tourism-summit-10-29-2009-2166
END:VEVENT

END:VCALENDAR
