BEGIN:VCALENDAR
VERSION:2.0
PRODID:-//ChamberMaster//Event Calendar 2.0//EN
METHOD:PUBLISH
X-PUBLISHED-TTL:P3D
REFRESH-INTERVAL:P3D
CALSCALE:GREGORIAN
BEGIN:VEVENT
DTSTART:20110409T150000Z
DTEND:20110409T200000Z
X-MICROSOFT-CDO-ALLDAYEVENT:FALSE
SUMMARY:4th annual Jackson Street Classic Car Show
DESCRIPTION:(Registration from 8 - 10 a.m.)  \nCheck out sleek tail fins\, shiny hood ornaments\, and hot-rodding horsepower at the annual Jackson Street Classic Car Show\, free and open to the public. On-site registration for cars is between 8 and 10 a.m.\; entry fee is non-perishable food products for the RGV Food Bank.  The first 100 entrants will receive a free souvenir T-Shirt.  Organized by the RGV Chapter of the Antique Automobile Club of America (AACA).  For more information\, email AACA President Moses Mendoza at mmen700224@aol.com.
X-ALT-DESC;FMTTYPE=text/html:(Registration from 8 - 10 a.m.)  \nCheck out sleek tail fins\, shiny hood ornaments\, and hot-rodding horsepower at the annual Jackson Street Classic Car Show\, free and open to the public. On-site registration for cars is between 8 and 10 a.m.\; entry fee is non-perishable food products for the RGV Food Bank.  The first 100 entrants will receive a free souvenir T-Shirt.  Organized by the RGV Chapter of the Antique Automobile Club of America (AACA).  For more information\, email AACA President Moses Mendoza at mmen700224@aol.com.\n
LOCATION:Jackson Street in Downtown Harlingen\, from 3rd St - Commerce
UID:e.1828.3016
SEQUENCE:3
DTSTAMP:20260421T113029Z
URL:https://business.harlingen.com/events/details/4th-annual-jackson-street-classic-car-show-04-09-2011-3016
END:VEVENT

END:VCALENDAR
