BEGIN:VCALENDAR
VERSION:2.0
PRODID:-//ChamberMaster//Event Calendar 2.0//EN
METHOD:PUBLISH
X-PUBLISHED-TTL:P3D
REFRESH-INTERVAL:P3D
CALSCALE:GREGORIAN
BEGIN:VEVENT
DTSTART:20110827T230000Z
DTEND:20110828T020000Z
X-MICROSOFT-CDO-ALLDAYEVENT:FALSE
SUMMARY:4th Annual Matrimonio Magnifico Awards
DESCRIPTION:H.A.R.P. CC is calling for nominations for "Magnificent Marriages" in Cameron County to be honored at the 4th Annual Matrimonio Magnifico event on August 27th\, 2011 at the Holiday Inn Brownsville. \n\nMatrimonio Magnifico is an annual event sponsored by H.A.R.P. CC that invites the general public to nominate "Magnificent Marriages" within the community.  The selected couples will then be honored at a gala dinner\, where they will walk down a red carpet to receive their award.  H.A.R.P. officially begins accepting nominations on Monday\, May 2\, 2011.  All Cameron County residents are invited to nominate a married couple that they believe is an exemplary marriage and fits any of the three categories\, "We Have Prevailed\, "Community Impact"\,\n"A Walk of Excellence". \n\nFor nomination forms: visit www.harpcc.com to download form\, call HARP at 956-544-7165.
X-ALT-DESC;FMTTYPE=text/html:H.A.R.P. CC is calling for nominations for "Magnificent Marriages" in Cameron County to be honored at the 4th Annual Matrimonio Magnifico event on August 27th\, 2011 at the Holiday Inn Brownsville. \n\nMatrimonio Magnifico is an annual event sponsored by H.A.R.P. CC that invites the general public to nominate "Magnificent Marriages" within the community.  The selected couples will then be honored at a gala dinner\, where they will walk down a red carpet to receive their award.  H.A.R.P. officially begins accepting nominations on Monday\, May 2\, 2011.  All Cameron County residents are invited to nominate a married couple that they believe is an exemplary marriage and fits any of the three categories\, "We Have Prevailed\, "Community Impact"\,\n"A Walk of Excellence". \n\nFor nomination forms: visit www.harpcc.com to download form\, call HARP at 956-544-7165.
LOCATION:
UID:e.1828.3051
SEQUENCE:3
DTSTAMP:20260421T052751Z
URL:https://business.harlingen.com/events/details/4th-annual-matrimonio-magnifico-awards-08-27-2011-3051
END:VEVENT

END:VCALENDAR
