BEGIN:VCALENDAR
VERSION:2.0
PRODID:-//ChamberMaster//Event Calendar 2.0//EN
METHOD:PUBLISH
X-PUBLISHED-TTL:P3D
REFRESH-INTERVAL:P3D
CALSCALE:GREGORIAN
BEGIN:VEVENT
DTSTART:20101009T150000Z
DTEND:20101009T200000Z
X-MICROSOFT-CDO-ALLDAYEVENT:FALSE
SUMMARY:4th Annual Rio Grande Delta International Archeology Fair
DESCRIPTION:Free !!! event is open to everyone to attend and enjoy.  Illuminating The Past Through Archeology. Fun and educational activities and demonstration for adults and children.  First 250 visitors to complete the round of activities at the fair will get a free t-shirt!  For more information please call 956-541-2785 ext. 333
X-ALT-DESC;FMTTYPE=text/html:Free !!! event is open to everyone to attend and enjoy.  Illuminating The Past Through Archeology. Fun and educational activities and demonstration for adults and children.  First 250 visitors to complete the round of activities at the fair will get a free t-shirt!  For more information please call 956-541-2785 ext. 333
LOCATION:Located just nine miles from downtown Brownsville\, at 7200 Parades Line Road\, just north of the intersection of FM 511. * In case of rain or muddy conditions the event will be held at an alternate location courtesy of Los Fresnos CISD.*
UID:e.1828.2788
SEQUENCE:3
DTSTAMP:20260421T223348Z
URL:https://business.harlingen.com/events/details/4th-annual-rio-grande-delta-international-archeology-fair-10-09-2010-2788
END:VEVENT

END:VCALENDAR
