BEGIN:VCALENDAR
VERSION:2.0
PRODID:-//ChamberMaster//Event Calendar 2.0//EN
METHOD:PUBLISH
X-PUBLISHED-TTL:P3D
REFRESH-INTERVAL:P3D
CALSCALE:GREGORIAN
BEGIN:VEVENT
DTSTART:20100703T220000Z
DTEND:20100704T000000Z
X-MICROSOFT-CDO-ALLDAYEVENT:FALSE
SUMMARY:4th of July Celebration
DESCRIPTION:Guest speakers will be Bob Jones\, Pastor\, Veteran & host of the Bob Jones Show on radio station 1030 am KCTA in Corpus Christi and Sergio Sanchez\, award winning reporter & host of the Valley's morning news on radio station 710 KURV.  Enjoy patriotic music by Vanessa Hinojosa & Carlos Canas & Sons.  Complimentary ice cream & bottled water.  Lots of fun activities for the kids.  Sponsored by Patriotic Americans of Harlingen.
X-ALT-DESC;FMTTYPE=text/html:Guest speakers will be Bob Jones\, Pastor\, Veteran & host of the Bob Jones Show on radio station 1030 am KCTA in Corpus Christi and Sergio Sanchez\, award winning reporter & host of the Valley's morning news on radio station 710 KURV.  Enjoy patriotic music by Vanessa Hinojosa & Carlos Canas & Sons.  Complimentary ice cream & bottled water.  Lots of fun activities for the kids.  Sponsored by Patriotic Americans of Harlingen.
LOCATION:
UID:e.1828.2566
SEQUENCE:3
DTSTAMP:20260422T015327Z
URL:https://business.harlingen.com/events/details/4th-of-july-celebration-07-03-2010-2566
END:VEVENT

END:VCALENDAR
