BEGIN:VCALENDAR
VERSION:2.0
PRODID:-//ChamberMaster//Event Calendar 2.0//EN
METHOD:PUBLISH
X-PUBLISHED-TTL:P3D
REFRESH-INTERVAL:P3D
CALSCALE:GREGORIAN
BEGIN:VEVENT
DTSTART;VALUE=DATE:20111024
DTEND;VALUE=DATE:20111026
TRANSP:TRANSPARENT
X-MICROSOFT-CDO-ALLDAYEVENT:TRUE
SUMMARY:$5. DOLLAR Jewelry & Gift Sale
DESCRIPTION:5 Jewelry & Gift Sale sponsored by VBMC Auxiliaries \nMonday & Tuesday\, October 24 & 25 \nVBMC - Woodward Conference Center Harlingen\nDay 1 - 7:00am - 7pm\nDay 2 - 7:00am - 6pm\nFabulous gifts for family\, friends\, and of course....yourself! Invite your friends! \nFor more information\, call: 389-1193. \n\nCash\, Checks\, Credit Cards ( Payroll Deduction for VBMC employees)
X-ALT-DESC;FMTTYPE=text/html:5 Jewelry & Gift Sale sponsored by VBMC Auxiliaries \nMonday & Tuesday\, October 24 & 25 \nVBMC - Woodward Conference Center Harlingen\nDay 1 - 7:00am - 7pm\nDay 2 - 7:00am - 6pm\nFabulous gifts for family\, friends\, and of course....yourself! Invite your friends! \nFor more information\, call: 389-1193. \n\nCash\, Checks\, Credit Cards ( Payroll Deduction for VBMC employees)\n\n
LOCATION:
UID:e.1828.3197
SEQUENCE:3
DTSTAMP:20260421T034426Z
URL:https://business.harlingen.com/events/details/5-dollar-jewelry-gift-sale-10-24-2011-3197
END:VEVENT

END:VCALENDAR
