BEGIN:VCALENDAR
VERSION:2.0
PRODID:-//ChamberMaster//Event Calendar 2.0//EN
METHOD:PUBLISH
X-PUBLISHED-TTL:P3D
REFRESH-INTERVAL:P3D
CALSCALE:GREGORIAN
BEGIN:VEVENT
DTSTART;VALUE=DATE:20120405
DTEND;VALUE=DATE:20120407
TRANSP:TRANSPARENT
X-MICROSOFT-CDO-ALLDAYEVENT:TRUE
SUMMARY:$5 Jewelry & Gift Sale
DESCRIPTION:$5 Jewelry & Gift Sale sponsored by Valley Baptist Medical Center Auxiliaries \nThursday & Friday\, April 5 and 6\, 2012\n7:00 am - 7:00 pm (day 1)\n7:00 am - 6:00 pm (day 2)\n\nFabulous gifts for family\, friends\, and of course...Yourself!! Invite your friends!  For more information\, call (956) 389-1193.
X-ALT-DESC;FMTTYPE=text/html:$5 Jewelry & Gift Sale sponsored by Valley Baptist Medical Center Auxiliaries \nThursday & Friday\, April 5 and 6\, 2012\n7:00 am - 7:00 pm (day 1)\n7:00 am - 6:00 pm (day 2)\n\nFabulous gifts for family\, friends\, and of course...Yourself!! Invite your friends!  For more information\, call (956) 389-1193.\n\n
LOCATION:Woodward Conference Center
UID:e.1828.3601
SEQUENCE:3
DTSTAMP:20260420T163504Z
URL:https://business.harlingen.com/events/details/5-jewelry-gift-sale-04-05-2012-3601
END:VEVENT

END:VCALENDAR
