BEGIN:VCALENDAR
VERSION:2.0
PRODID:-//ChamberMaster//Event Calendar 2.0//EN
METHOD:PUBLISH
X-PUBLISHED-TTL:P3D
REFRESH-INTERVAL:P3D
CALSCALE:GREGORIAN
BEGIN:VEVENT
DTSTART:20100724T150000Z
DTEND:20100724T150000Z
X-MICROSOFT-CDO-ALLDAYEVENT:FALSE
SUMMARY:51st Annual Beachcombers Fine Art Show
DESCRIPTION:The 51st Annual Beachcombers Fine Art Show will be held at the South Padre Island Convention Centre on Saturday\, July 24th from 10 am to 6 pm and Sunday\, July 25th from 10 am to 5 pm.  See original works and signed reproductions of original works.  Categories include Paintings in various mediums\, Sculpture\, Ceramics\, Glass\, Photography\, Fiber and mixed media\, Printmaking and Digital and computer enhanced art.  $3 donation at the door.  For more information\, please contact the D'Arte Centre (home of the Harlingen Art Forum) at 956-425-4030.
X-ALT-DESC;FMTTYPE=text/html:The 51st Annual Beachcombers Fine Art Show will be held at the South Padre Island Convention Centre on Saturday\, July 24th from 10 am to 6 pm and Sunday\, July 25th from 10 am to 5 pm.  See original works and signed reproductions of original works.  Categories include Paintings in various mediums\, Sculpture\, Ceramics\, Glass\, Photography\, Fiber and mixed media\, Printmaking and Digital and computer enhanced art.  $3 donation at the door.  For more information\, please contact the D'Arte Centre (home of the Harlingen Art Forum) at 956-425-4030.
LOCATION:
UID:e.1828.2585
SEQUENCE:3
DTSTAMP:20260422T015327Z
URL:https://business.harlingen.com/events/details/51st-annual-beachcombers-fine-art-show-07-24-2010-2585
END:VEVENT

END:VCALENDAR
