BEGIN:VCALENDAR
VERSION:2.0
PRODID:-//ChamberMaster//Event Calendar 2.0//EN
METHOD:PUBLISH
X-PUBLISHED-TTL:P3D
REFRESH-INTERVAL:P3D
CALSCALE:GREGORIAN
BEGIN:VEVENT
DTSTART;VALUE=DATE:20110723
DTEND;VALUE=DATE:20110725
TRANSP:TRANSPARENT
X-MICROSOFT-CDO-ALLDAYEVENT:TRUE
SUMMARY:52nd Beachcombers Art Show
DESCRIPTION:The 52nd Beachcombers Art Show. Loaded with Artistic Aces ART\, FUN & SUN. Please visit website www.beachcombersartshow.com
X-ALT-DESC;FMTTYPE=text/html:The 52nd Beachcombers Art Show. Loaded with Artistic Aces ART\, FUN & SUN. Please visit website www.beachcombersartshow.com
LOCATION:
UID:e.1828.3121
SEQUENCE:3
DTSTAMP:20260421T063934Z
URL:https://business.harlingen.com/events/details/52nd-beachcombers-art-show-07-23-2011-3121
END:VEVENT

END:VCALENDAR
