BEGIN:VCALENDAR
VERSION:2.0
PRODID:-//ChamberMaster//Event Calendar 2.0//EN
METHOD:PUBLISH
X-PUBLISHED-TTL:P3D
REFRESH-INTERVAL:P3D
CALSCALE:GREGORIAN
BEGIN:VEVENT
DTSTART:20100423T213000Z
DTEND:20100423T233000Z
X-MICROSOFT-CDO-ALLDAYEVENT:FALSE
SUMMARY:5th Annual Crime Victims' Resource Expo
DESCRIPTION:The Cameron County and District Attorney's Office Crime Victims' Unit would host this event to bring awareness to the citizens of Cameron County and to educate them on the agencies that directly service victims of violent crimes.
X-ALT-DESC;FMTTYPE=text/html:The Cameron County and District Attorney's Office Crime Victims' Unit would host this event to bring awareness to the citizens of Cameron County and to educate them on the agencies that directly service victims of violent crimes.
LOCATION:HEB in Paredes Line Road and FM 802
UID:e.1828.2492
SEQUENCE:3
DTSTAMP:20260422T080833Z
URL:https://business.harlingen.com/events/details/5th-annual-crime-victims-resource-expo-04-23-2010-2492
END:VEVENT

END:VCALENDAR
