BEGIN:VCALENDAR
VERSION:2.0
PRODID:-//ChamberMaster//Event Calendar 2.0//EN
METHOD:PUBLISH
X-PUBLISHED-TTL:P3D
REFRESH-INTERVAL:P3D
CALSCALE:GREGORIAN
BEGIN:VEVENT
DTSTART;VALUE=DATE:20120414
DTEND;VALUE=DATE:20120415
TRANSP:TRANSPARENT
X-MICROSOFT-CDO-ALLDAYEVENT:TRUE
SUMMARY:5th Annual Dowtown Jackson Street "Classic Car Show
DESCRIPTION:"Classic Car Show" Registration 8am-10am\, Car Show:10am-3am\, Entry Fee: Non-perishable food products. First 100 entrants will receive an event T-Shirt.\n\nAwards Presentations: 3:00pm\n \n"Downtown Harlingen Business Choice Award"\n"Exhibitors' Choice Award"\n"Ladies' Choice Award"\n"North Harlingen Rotarians' Choice Award"\n"Texas Army National Guards' Choice Award" \n\nMust be present to win. For more information contact Moses Mendoza mmen700224@aol.com
X-ALT-DESC;FMTTYPE=text/html:"Classic Car Show" Registration 8am-10am\, Car Show:10am-3am\, Entry Fee: Non-perishable food products. First 100 entrants will receive an event T-Shirt.\n\nAwards Presentations: 3:00pm\n \n"Downtown Harlingen Business Choice Award"\n"Exhibitors' Choice Award"\n"Ladies' Choice Award"\n"North Harlingen Rotarians' Choice Award"\n"Texas Army National Guards' Choice Award" \n\nMust be present to win. For more information contact Moses Mendoza mmen700224@aol.com\n\n\n\n\n
LOCATION:
UID:e.1828.3589
SEQUENCE:3
DTSTAMP:20260420T163743Z
URL:https://business.harlingen.com/events/details/5th-annual-dowtown-jackson-street-classic-car-show-04-14-2012-3589
END:VEVENT

END:VCALENDAR
