BEGIN:VCALENDAR
VERSION:2.0
PRODID:-//ChamberMaster//Event Calendar 2.0//EN
METHOD:PUBLISH
X-PUBLISHED-TTL:P3D
REFRESH-INTERVAL:P3D
CALSCALE:GREGORIAN
BEGIN:VEVENT
DTSTART:20110514T140000Z
DTEND:20110514T160000Z
X-MICROSOFT-CDO-ALLDAYEVENT:FALSE
SUMMARY:5th Annual Ladies Day Out Health Fair
DESCRIPTION:Various health screenings available\, demonstrations\, product samples\, local vendor shops\, and more! Also a special lecture given by: Dr. Roseller Tapangan\, Tapangan Pediatrics\, on Caring for your Newborn at 10 am. \nFor more information please call Letty Kretz 956-365-1140 or Amy Flores 956-365-1041.
X-ALT-DESC;FMTTYPE=text/html:Various health screenings available\, demonstrations\, product samples\, local vendor shops\, and more! Also a special lecture given by: Dr. Roseller Tapangan\, Tapangan Pediatrics\, on Caring for your Newborn at 10 am. \nFor more information please call Letty Kretz 956-365-1140 or Amy Flores 956-365-1041.
LOCATION:
UID:e.1828.3052
SEQUENCE:3
DTSTAMP:20260421T112357Z
URL:https://business.harlingen.com/events/details/5th-annual-ladies-day-out-health-fair-05-14-2011-3052
END:VEVENT

END:VCALENDAR
