BEGIN:VCALENDAR
VERSION:2.0
PRODID:-//ChamberMaster//Event Calendar 2.0//EN
METHOD:PUBLISH
X-PUBLISHED-TTL:P3D
REFRESH-INTERVAL:P3D
CALSCALE:GREGORIAN
BEGIN:VEVENT
DTSTART;VALUE=DATE:20110127
DTEND;VALUE=DATE:20110130
TRANSP:TRANSPARENT
X-MICROSOFT-CDO-ALLDAYEVENT:TRUE
SUMMARY:5th Annual Shop Hop in Harlingen & San Benito
DESCRIPTION:This year's 5th Shop Hop is a game with prizes. Pick up your Map-Passport at any of the participating shops\, visit them in any order and have your Map-Passport stamped. After all spaces are filled\, turn in the stamped section at one of the shops. Sunday the shop owners get together and draw names of winners.\n\nWinners will be called Sunday\, or as soon as we can contact you. The grand prize this year is a BBQ grill\, valued between $300.- $350.\, with an accompanying grocery gift card valued at $100. The other gift baskets are filled with donations from our community-tangible as well as gift certificate.\n\nThe Shop Hop is proud to have supported the RGV Loaves & Fishes each year. A container at each shop will be available for donations. A small donation from many makes a bigger amount that Loaves & Fishes will put to good use.  \n\nParticipating Shops\n\nHarlingen\n\nAlma's Treasure\, Antique Emporium\, Cossey Creations\, D'Arte Centre\, Flowers by Jesse\, Hand of Man Stained Glass\, Judy's Stitchery Nook\, Quelle Boutique\, Simply Elegant\, The Vintage Store\n\nSan Benito\n\nHealthy Lifestyle\, Heartfelt Gifts & Cafe\, Lo-Ree's Dress Shop
X-ALT-DESC;FMTTYPE=text/html:This year's 5th Shop Hop is a game with prizes. Pick up your Map-Passport at any of the participating shops\, visit them in any order and have your Map-Passport stamped. After all spaces are filled\, turn in the stamped section at one of the shops. Sunday the shop owners get together and draw names of winners.\n\nWinners will be called Sunday\, or as soon as we can contact you. The grand prize this year is a BBQ grill\, valued between $300.- $350.\, with an accompanying grocery gift card valued at $100. The other gift baskets are filled with donations from our community-tangible as well as gift certificate.\n\nThe Shop Hop is proud to have supported the RGV Loaves & Fishes each year. A container at each shop will be available for donations. A small donation from many makes a bigger amount that Loaves & Fishes will put to good use.  \n\nParticipating Shops\n\nHarlingen\n\nAlma's Treasure\, Antique Emporium\, Cossey Creations\, D'Arte Centre\, Flowers by Jesse\, Hand of Man Stained Glass\, Judy's Stitchery Nook\, Quelle Boutique\, Simply Elegant\, The Vintage Store\n\nSan Benito\n\nHealthy Lifestyle\, Heartfelt Gifts & Cafe\, Lo-Ree's Dress Shop \n
LOCATION:
UID:e.1828.2898
SEQUENCE:3
DTSTAMP:20260421T154942Z
URL:https://business.harlingen.com/events/details/5th-annual-shop-hop-in-harlingen-san-benito-01-27-2011-2898
END:VEVENT

END:VCALENDAR
